BEGIN:VCALENDAR
VERSION:2.0
PRODID:-//KLMCC - Kuala Lumpur Malay Chamber of Commerce - ECPv6.2.4//NONSGML v1.0//EN
CALSCALE:GREGORIAN
METHOD:PUBLISH
X-ORIGINAL-URL:https://klmcc.org
X-WR-CALDESC:Events for KLMCC - Kuala Lumpur Malay Chamber of Commerce
REFRESH-INTERVAL;VALUE=DURATION:PT1H
X-Robots-Tag:noindex
X-PUBLISHED-TTL:PT1H
BEGIN:VTIMEZONE
TZID:Asia/Kuala_Lumpur
BEGIN:STANDARD
TZOFFSETFROM:+0800
TZOFFSETTO:+0800
TZNAME:+08
DTSTART:20180101T000000
END:STANDARD
END:VTIMEZONE
BEGIN:VEVENT
DTSTART;TZID=Asia/Kuala_Lumpur:20180129T143000
DTEND;TZID=Asia/Kuala_Lumpur:20180129T170000
DTSTAMP:20260423T063457
CREATED:20180125T092522Z
LAST-MODIFIED:20180127T002528Z
UID:7226-1517236200-1517245200@klmcc.org
SUMMARY:PERJUMPAAN  AHLI  Dewan Perniagaan Melayu Malaysia Kuala Lumpur (DPMMKL)
DESCRIPTION:PERJUMPAAN AHLI Dewan Perniagaan Melayu Malaysia Kuala Lumpur (DPMMKL) / Kuala Lumpur Malay Chamber OF Commerce (KLMCC)\nAssalamualaikum Dato’/Datin/Tuan/Puan/Encik/Cik \nKepada Ahli Dewan Perniagaan Melayu Malaysia Kuala Lumpur (DPMMKL) / Kuala Lumpur Malay Chamber OF Commerce (KLMCC) \nDengan segala hormatnya anda dijemput bagi menghadiri \n(Perjumpaan Ahli KLMCC sempena Kuala Lumpur Travel Mart) \nPada 29 January 2017 \, Jam 2:30 petang di Meeting Room 1 Level 3A\, Vivatel Kuala Lumpur. \nUntuk mengesahkan kehadiran atau sebarang pertanyaan sila hubungi sekretariat Dewan Perniagaan Melayu Malaysia Kuala Lumpur : \nEn Zahar Izrin – 0192427888\nEn Haikhal – 0172050432
URL:https://klmcc.org/events-expo/perjumpaan-ahli-dewan-perniagaan-melayu-malaysia-kuala-lumpur-dpmmkl/
LOCATION:Vivatel Hotel
CATEGORIES:Events & Expo
END:VEVENT
END:VCALENDAR