BEGIN:VCALENDAR
VERSION:2.0
PRODID:-//KLMCC - Kuala Lumpur Malay Chamber of Commerce - ECPv6.2.4//NONSGML v1.0//EN
CALSCALE:GREGORIAN
METHOD:PUBLISH
X-ORIGINAL-URL:https://klmcc.org
X-WR-CALDESC:Events for KLMCC - Kuala Lumpur Malay Chamber of Commerce
REFRESH-INTERVAL;VALUE=DURATION:PT1H
X-Robots-Tag:noindex
X-PUBLISHED-TTL:PT1H
BEGIN:VTIMEZONE
TZID:Asia/Kuala_Lumpur
BEGIN:STANDARD
TZOFFSETFROM:+0800
TZOFFSETTO:+0800
TZNAME:+08
DTSTART:20180101T000000
END:STANDARD
END:VTIMEZONE
BEGIN:VEVENT
DTSTART;TZID=Asia/Kuala_Lumpur:20180625T080000
DTEND;TZID=Asia/Kuala_Lumpur:20180626T170000
DTSTAMP:20260423T100639
CREATED:20180621T004843Z
LAST-MODIFIED:20180621T004843Z
UID:7677-1529913600-1530032400@klmcc.org
SUMMARY:6th Annual Malaysia Rail
DESCRIPTION:Bricsa Consulting is proud to announce its flagship closed door business conference\, 6th Annual Malaysia Rail which is a 2-day strategic programme for rail sector professionals\, to understand business opportunity throughout Asia Pacific region\, to access and analyse the market trends in the rail transportation industry and accordingly benchmark with the best in the business. This conference is a hub of discussion concerning latest changes in policy and regulatory affairs in the region\, investment climate and opportunities\, technological advancements in the urban mobility space and solutions for existing challenges. The expected gathering would be a mix of government and semi-government agencies\, rail developers\, contractors and sub-contractors\, architects\, urban planners and solution providers to collaborate and implement the foundation for growth and development. 6th Annual Malaysia Rail will enable you to network\, discover\, learn and make deals in a closed-door\, no visitor kind of neutral environment. We mean business and do our best to facilitate the same. \nThe focus of the conference will be covering the following topics: \n\nKlang Valley Mass Rapid Transit (KVMRT) Project – Project update on MRT Line 2 and planned status of MRT Line 3 (Circle Line).\nPenang Transport Masterplan – Penang LRT (22km-Bayan Lepas LRT).\nEast Cost Rail Line\nSmart Mobility – Metro Rail Connectivity in the Southeast Asian Environment.\nLegal aspects of delivering rail projects in Asia.\nThe 191 km Gemas to Johor Bahru Rail – a continuation of the Singapore – Kunming Rail Link – USD 10 billion Electrification Double Tracking Project.\n\nFor more information regarding participation\, please respond to the undersigned to communicate further. \nAdnan Shaikh \nMarketing Team \nadnan@bricsaconsulting.com \nhttps://bricsaconsulting.com/event/6th-annual-malaysia-rail/ \n+91 22 6242 2908
URL:https://klmcc.org/events-expo/6th-annual-malaysia-rail/
CATEGORIES:Events & Expo
END:VEVENT
END:VCALENDAR