BEGIN:VCALENDAR
VERSION:2.0
PRODID:-//KLMCC - Kuala Lumpur Malay Chamber of Commerce - ECPv6.2.4//NONSGML v1.0//EN
CALSCALE:GREGORIAN
METHOD:PUBLISH
X-WR-CALNAME:KLMCC - Kuala Lumpur Malay Chamber of Commerce
X-ORIGINAL-URL:https://klmcc.org
X-WR-CALDESC:Events for KLMCC - Kuala Lumpur Malay Chamber of Commerce
REFRESH-INTERVAL;VALUE=DURATION:PT1H
X-Robots-Tag:noindex
X-PUBLISHED-TTL:PT1H
BEGIN:VTIMEZONE
TZID:Asia/Kuala_Lumpur
BEGIN:STANDARD
TZOFFSETFROM:+0800
TZOFFSETTO:+0800
TZNAME:+08
DTSTART:20180101T000000
END:STANDARD
END:VTIMEZONE
BEGIN:VEVENT
DTSTART;VALUE=DATE:20180810
DTEND;VALUE=DATE:20190309
DTSTAMP:20260424T163808
CREATED:20180710T043033Z
LAST-MODIFIED:20181109T011340Z
UID:7685-1533859200-1552089599@klmcc.org
SUMMARY:Kuala Lumpur Market Place Programmes
DESCRIPTION:
URL:https://klmcc.org/events-expo/kuala-lumpur-market-place-programs/
CATEGORIES:Events & Expo
END:VEVENT
BEGIN:VEVENT
DTSTART;VALUE=DATE:20190209
DTEND;VALUE=DATE:20190211
DTSTAMP:20260424T163808
CREATED:20190124T085701Z
LAST-MODIFIED:20190124T085701Z
UID:7723-1549670400-1549843199@klmcc.org
SUMMARY:JEMPUTAN PELAJAR MENYERTAI PROGRAM ICT. DIGITAL. ENTREPRENEURSHIP. APPS (I.D.E.A) FAIR 2019
DESCRIPTION:JEMPUTAN PELAJAR MENYERTAI PROGRAM ICT. DIGITAL. ENTREPRENEURSHIP. APPS (I.D.E.A) FAIR 2019 \nPerkara di atas adalah dengan hormatnya dirujuk. \n\nAdalah dimaklumkan bahawa MARA Wilayah Persekutuan akan menganjurkan I.D.E.A Fair 2019. Penganjuran I.D.E.A Fair 2019 adalah merupakan inisiatif MARA dalam membentuk usahawan PKS dengan ilmu dan aplikasi ICT yang menyumbang kepada 18% kepada GDP negara pada tahun 2020. Program ini juga merupakan engagement untuk usahawan\, para pendidik dan pelajar dalam mengaplikasikan dunia digital dan teknologi sebagai gaya hidup terkini. \nJusteru\, MARA Wilayah Persekutuan berbesar hati untuk menjemput seramai 30 orang ahli Dewan Perniagaan Melayu Malaysia Cawangan Kuala Lumpur sebagai peserta program seperti ketetapan berikut:- \nTarikh : 9 hingga 10 Februari 2019 (Sabtu dan Ahad)\nMasa : 9.00 pagi hingga 5.00 petang\nTempat : Dewan Utama\, Aras 6\, Hotel Premiera \nSijil penyertaan akan diberikan kepada peserta program. Semoga penyertaan usahawan ke program ini akan mendapat manfaat daripada kemudahan keusahawanan yang disediakan oleh MARA. \nMohon kerjasama pihak tuan untuk membuat pengesahan kehadiran ahli sebelum 24 Januari 2019 (Khamis) kepada pihak secretariat iaitu En Shafiq di talian +601111325838 atau melalui email shafiq@klmcc.org \nSekian\, Terima Kasih.
URL:https://klmcc.org/events-expo/jemputan-pelajar-menyertai-program-ict-digital-entrepreneurship-apps-i-d-e-a-fair-2019/
LOCATION:hotel premiera
CATEGORIES:Events & Expo
END:VEVENT
END:VCALENDAR