BEGIN:VCALENDAR
VERSION:2.0
PRODID:-//KLMCC - Kuala Lumpur Malay Chamber of Commerce - ECPv6.2.4//NONSGML v1.0//EN
CALSCALE:GREGORIAN
METHOD:PUBLISH
X-ORIGINAL-URL:https://klmcc.org
X-WR-CALDESC:Events for KLMCC - Kuala Lumpur Malay Chamber of Commerce
REFRESH-INTERVAL;VALUE=DURATION:PT1H
X-Robots-Tag:noindex
X-PUBLISHED-TTL:PT1H
BEGIN:VTIMEZONE
TZID:Asia/Kuala_Lumpur
BEGIN:STANDARD
TZOFFSETFROM:+0800
TZOFFSETTO:+0800
TZNAME:+08
DTSTART:20190101T000000
END:STANDARD
END:VTIMEZONE
BEGIN:VEVENT
DTSTART;VALUE=DATE:20190403
DTEND;VALUE=DATE:20190407
DTSTAMP:20260425T065757
CREATED:20190330T041139Z
LAST-MODIFIED:20190330T041139Z
UID:7911-1554249600-1554595199@klmcc.org
SUMMARY:MIHAS 2019
DESCRIPTION:MIHAS is an annual 4-day trade exhibition held in Kuala Lumpur\, Malaysia. MIHAS is hosted by the Ministry of International Trade and Industry (MITI)\, Malaysia\, and is organised by the Malaysia External Trade Development Corporation (MATRADE). \nRespected as a modern\, peaceful and prosperous Islamic country especially among OIC member countries\, Malaysia has the added advantage of championing the halal cause. With more than 21\,000 trade visitors flocking into the MIHAS 2018\, it had resulted in total immediate and negotiated trade value of over RM1.52 billion. \nToday\, MIHAS is the premier event that is not limited to the ASEAN region alone but is also supported internationally by the enthusiastic participation of International Pavilions from countries across the globe. \n\nOpening Hours\n\n\nTrade Days: 3 – 6 April 2019 \nPublic Days: 6 April 2019 \nOpening Hours: 10am – 7pm \nVENUE \n\nMalaysia International Trade & Exhibition Centre\n\n\n\nAddress: 8 Jalan Dutamas 2\, 50480 Kuala Lumpur \nCoordinates: Latitude – 3.17933\, Longitude – 101.66757 \nWaze Ref: Malaysia International Trade and Exhibition Centre (MITEC) \n\n\n\n\n\n\nAdmission\n\nMIHAS is open for visitors above 18 years old only. \n\n\n\nDress Code\n\nOffice Attire/Business Casual. No slippers/sandals\, singlets\, shorts are allowed. \nThe Organiser reserves the right to refuse admission\, without prejudice\, to visitors who are deemed to be inappropriately dressed. \n 
URL:https://klmcc.org/events-expo/mihas-2019/
CATEGORIES:Events & Expo
END:VEVENT
END:VCALENDAR