BEGIN:VCALENDAR
VERSION:2.0
PRODID:-//KLMCC - Kuala Lumpur Malay Chamber of Commerce - ECPv6.2.4//NONSGML v1.0//EN
CALSCALE:GREGORIAN
METHOD:PUBLISH
X-ORIGINAL-URL:https://klmcc.org
X-WR-CALDESC:Events for KLMCC - Kuala Lumpur Malay Chamber of Commerce
REFRESH-INTERVAL;VALUE=DURATION:PT1H
X-Robots-Tag:noindex
X-PUBLISHED-TTL:PT1H
BEGIN:VTIMEZONE
TZID:Asia/Kuala_Lumpur
BEGIN:STANDARD
TZOFFSETFROM:+0800
TZOFFSETTO:+0800
TZNAME:+08
DTSTART:20190101T000000
END:STANDARD
END:VTIMEZONE
BEGIN:VEVENT
DTSTART;TZID=Asia/Kuala_Lumpur:20190429T140000
DTEND;TZID=Asia/Kuala_Lumpur:20190429T170000
DTSTAMP:20260425T104916
CREATED:20190330T040059Z
LAST-MODIFIED:20190330T040059Z
UID:7908-1556546400-1556557200@klmcc.org
SUMMARY:NOTIS MESYUARAT AGUNG TAHUNAN KALI KE 43
DESCRIPTION:Assalamualaikum….. \nKepada Ahli-Ahli DPMM Kuala Lumpur\, \nYBhg Tan Sri/Dato’ Sri/Dato’/Datin/Tuan/Puan\, \n\nNOTIS MESYUARAT AGUNG TAHUNAN KALI KE 43 \nSukacita dimaklumkan bahawa Mesyuarat Agung Tahunan Kali Ke-43 DPMM Kuala Lumpur akan diadakan seperti berikut :- \nTarikh : 29 April 2019 (Isnin)\n Masa : 2.00 PM\n Tempat : Bilik Jakarta\, Aras 5\, West Wing\, Menara Matrade\, Jalan Sultan Haji Ahmad Shah\n 50480\, Kuala Lumpur \nAdalah ini dimaklumkan bahawasanya kami memohon agar Ahli-Ahli DPMM Kuala Lumpur untuk menyemak dan mengesahkan status Keahlian masing-masing sebelum tarikh Mesyuarat Agung Tahunan. \nAGENDA \n1. Ucapan Aluan oleh Pengerusi \n2. Pembentangan Minit Mesyuarat Agung Tahunan Kali Ke 40 \n3. Pembentangan Laporan Tahunan Bagi Tahun 2016 \n4. Pembentangan Penyata Kira-Kira Yang Telah Diperiksa dan Disahkan Oleh Juruaudit Bagi Tahun Berakhir Disember 2016 \n5. Melantik Juruaudit \n6. Melantik Pemegang Amanah \n7. Membahaskan Usul-Usul yang telah diterima \n8. Ucapan Penangguhan \n9. Taklimat khas MARA untuk ahli-ahli DPMMKL \nSebarang pertanyaan boleh hubungi sekretariat DPMM Kuala Lumpur di 03-40424711 \nSekian terima kasih. \nRizal Abdul Rahman\nSetiausaha Kehormat\nDPMM Kuala Lumpur
URL:https://klmcc.org/events-expo/notis-mesyuarat-agung-tahunan-kali-ke-43/
LOCATION:Bilik Jakarta 1\, MATRADE\, Level 5\,
CATEGORIES:Events & Expo
END:VEVENT
END:VCALENDAR