BEGIN:VCALENDAR
VERSION:2.0
PRODID:-//KLMCC - Kuala Lumpur Malay Chamber of Commerce - ECPv6.2.4//NONSGML v1.0//EN
CALSCALE:GREGORIAN
METHOD:PUBLISH
X-ORIGINAL-URL:https://klmcc.org
X-WR-CALDESC:Events for KLMCC - Kuala Lumpur Malay Chamber of Commerce
REFRESH-INTERVAL;VALUE=DURATION:PT1H
X-Robots-Tag:noindex
X-PUBLISHED-TTL:PT1H
BEGIN:VTIMEZONE
TZID:Asia/Kuala_Lumpur
BEGIN:STANDARD
TZOFFSETFROM:+0800
TZOFFSETTO:+0800
TZNAME:+08
DTSTART:20170101T000000
END:STANDARD
END:VTIMEZONE
BEGIN:VEVENT
DTSTART;TZID=Asia/Kuala_Lumpur:20180426T140000
DTEND;TZID=Asia/Kuala_Lumpur:20180426T170000
DTSTAMP:20260423T043033
CREATED:20180328T091213Z
LAST-MODIFIED:20180328T091410Z
UID:7447-1524751200-1524762000@klmcc.org
SUMMARY:Mesyuarat Agung Tahunan Kali Ke 42 DPMM Kuala Lumpur
DESCRIPTION:Assalamualaikum….. \nKepada Ahli-Ahli DPMM Kuala Lumpur\, \nYBhg Tan Sri/Dato’ Sri/Dato’/Datin/Tuan/Puan\, \nSukacitanya dimaklumkan bahawa Mesyuarat Agung Tahunan Kali Ke 42 DPMM Kuala Lumpur Akan diadakan seperti berikut : \nTarikh             :  26 April 2018 (Khamis) \nMasa              :   2.00 Petang (Pendaftaran) \nTempat           :   Vistana Hotel Kuala Lumpur \nBersama ini saya lampirkan: \nNotis Mesyuarat Agung Tahunan Kali Ke-42\nBorang Perisytiharan Berkanun\nBorang Proksi\nBorang USUL\nPengesahan Kehadiran                \nSebarang pertanyaan boleh hubungi sekretariat DPMM Kuala Lumpur di 03-40424711 \nSekian terima kasih. \n  \nRizal Abdul Rahman\nSetiausaha Kehormat\nDPMM Kuala Lumpur \nNotis agm 2018 – 42-1 \nPengesahan kehadiran AGM 42Borang Perisytiharan Berkanun agm 42Borang USUL 42
URL:https://klmcc.org/events-expo/7447/
LOCATION:Vistana Hotel\, Kuala Lumpur\, Off\, 9\, Jalan Lumut\, Pekeliling\,\, Wilayah Persekutuan Kuala Lumpur\, 50400
CATEGORIES:Events & Expo
END:VEVENT
BEGIN:VEVENT
DTSTART;TZID=Asia/Kuala_Lumpur:20180424T150000
DTEND;TZID=Asia/Kuala_Lumpur:20180424T170000
DTSTAMP:20260423T043033
CREATED:20180321T085505Z
LAST-MODIFIED:20180418T005532Z
UID:7440-1524582000-1524589200@klmcc.org
SUMMARY:Roadshow for Vibrant Tamilnadu Global Expo and Summit 2018
DESCRIPTION:Assalamualaikum….. \nKepada Ahli-Ahli DPMM Kuala Lumpur\, \nYBhg Tan Sri/Dato’ Sri/Dato’/Datin/Tuan/Puan\, \nDengan sukacitanya ingin dimaklumkam bahawa penganjur program Vibrant Tamil Nadu Global Summit and Expo 2018 telah menjemput DPMM Kuala Lumpur sebagai rakan penganjur untuk roadshow yang akan dilaksanakan di Malaysia. Atas jemputan itu\, pihak DPMM Kuala Lumpur telah mencadang untuk menganjurkan roadshow tersebut di: \nTarikh             :  24 April 2018 (Selasa) \nMasa              :   3pm – 5pm. \nTempat           :   Dewan Perdana\, Level 6\, West Wing Menara Matrade. \n  \nPerhatian and sokongan tuan dalam perkara ini amat dihargai. \nUntuk pengesahan kehadiran atau sebarang pertanyaan boleh hubungi sekretariat DPMM Kuala Lumpur di 03-40424711 \nSekian terima kasih. \n  \nRizal Abdul Rahman\nSetiausaha Kehormat\nDPMM Kuala Lumpur \nVibrant Tamil Nadu Global Expo and Summit 2018 is first of its kind of expo focused on the food and beverages sector in Tamil Nadu. Tamil Nadu is one of the leading producers of agro and food products. \nThe summit will have knowledge sessions on various topics with domestic and global experts from the food industry sharing their insights onlatest technological developments / innovations in agriculture\, organized food & beverage sector\, food processing\, packaging\, logistics\, cold chain\, cold storage and warehousing\, branding and related subjects coupled with advanced production practices\, preservation and marketing tactics. \nInviting food and food processing importers\, buyers\, trade partners\, food processors and manufacturers\, agro and food professionals\, consumers and end users in and around Malaysia to attend this roadshow. \n 
URL:https://klmcc.org/events-expo/roadshow-for-vibrant-tamilnadu-global-expo-and-summit-2018/
LOCATION:DPMMKL\, 79\, Kompleks Damai\, Jalan Haji Dato Eusoff\, Kuala Lumpur\, Malaysia
CATEGORIES:Events & Expo
END:VEVENT
BEGIN:VEVENT
DTSTART;TZID=Asia/Kuala_Lumpur:20180424T090000
DTEND;TZID=Asia/Kuala_Lumpur:20180424T123000
DTSTAMP:20260423T043033
CREATED:20180418T003748Z
LAST-MODIFIED:20180418T005442Z
UID:7471-1524560400-1524573000@klmcc.org
SUMMARY:Lawatan kerja ke MARDI
DESCRIPTION:Salam Ahli DPMMKL.\n Lawatan kerja ke MARDI akan diadakan pada 24 April\, Selasa jam 9.30 pagi.\nSila sertai program ini untuk mengetahui bagaimana anda boleh mendapatkannya;\n1. Inkubator teknologi\n2. Test bed teknologi\n3. Perkhidmatan Makmal\n4. R&D\n5. MQAS\n6. Bahan tanaman\, biji benih dan baka ternakan\n7. Khidmat nasihat dan lain lain perkhidmatan MARDI.
URL:https://klmcc.org/events-expo/lawatan-kerja-ke-mardi/
LOCATION:MARDI SERDANG
CATEGORIES:Events & Expo
END:VEVENT
BEGIN:VEVENT
DTSTART;TZID=Asia/Kuala_Lumpur:20180404T090000
DTEND;TZID=Asia/Kuala_Lumpur:20180407T180000
DTSTAMP:20260423T043033
CREATED:20180215T011312Z
LAST-MODIFIED:20180403T094221Z
UID:7259-1522832400-1523124000@klmcc.org
SUMMARY:MIHAS 2018
DESCRIPTION:Come visit the KLMCC booth and join the KLMCC @ MIHAS lucky draw! Special for KLMCC members only!\n\nMeet The Growing Demand for Halal Products\nFor nearly 15 years\, MIHAS has been the global sourcing platform for halal products. Showcasing purely halal/Islamic products across 6 easily identifiable market segments\, MIHAS regularly promotes trade across more than 70 countries. \nA Diverse International Shop Window\nMIHAS has the most diverse selection of Halal Products from around the world across 6 industry sectors. Nearly 30 countries participated at MIHAS 2016 showcasing products from food\, cosmetics\, pharmaceuticals to financial technology. \nMIHAS is the leading event for the halal industry. Part of the World Halal Week programme\, and held alongside The World Halal Conference and The International Certifying Bodies Convention\, MIHAS is a must attend event for Halal professionals. \nMalaysia’s no.1 ranking in the 2016 Global Islamic Economy Index provides the perfect backdrop for MIHAS. \nCo-located with World Halal Conference & International Certifying Bodies Convention\, MIHAS delivers more opportunities and the perfect environment to build relationships. \nMIHAS 2017 welcomed over 20\,000 trade visitors from 70 countries and generated RM1.14 billion for its exhibitors (source: MATRADE) \nMIHAS 2017 welcomed trade delegations from Singapore\, China\, South Afica\, Indonesia\, Thailand\, Japan\, Russia\, Italy\, New Zealand and other local delegates. \nMIHAS delivers opportunities across the global halal markets &em; Halal Food\, Islamic Finance\, Halal Pharmaceuticals\, Halal Cosmetics\, Halal Tourism & Halal Logistics.
URL:https://klmcc.org/events-expo/mihas-2018/
LOCATION:Malaysia International Trade & Exhibition Center (MITEC)\, Malaysia
CATEGORIES:Events & Expo
END:VEVENT
BEGIN:VEVENT
DTSTART;TZID=Asia/Kuala_Lumpur:20180329T083000
DTEND;TZID=Asia/Kuala_Lumpur:20180329T133000
DTSTAMP:20260423T043033
CREATED:20180321T045739Z
LAST-MODIFIED:20180321T050029Z
UID:7433-1522312200-1522330200@klmcc.org
SUMMARY:Business Opportunities on Halal Industry Japan
DESCRIPTION:
URL:https://klmcc.org/events-expo/business-opportunities-on-halal-industry-japan/
LOCATION:MATRADE Hall\, Menara MATRADE
CATEGORIES:Events & Expo
END:VEVENT
BEGIN:VEVENT
DTSTART;VALUE=DATE:20180305
DTEND;VALUE=DATE:20180311
DTSTAMP:20260423T043033
CREATED:20180205T082421Z
LAST-MODIFIED:20180205T082555Z
UID:7247-1520208000-1520726399@klmcc.org
SUMMARY:FOODEX JAPAN 2018
DESCRIPTION:FOODEX JAPAN is the Asia’s largest exhibition dedicated on food and drink across Japan and the whole world.\nOver the 4 days of the exhibition\, about 82\,000 buyers from food service\, distribution\, and trading companies are expected to attend. \nAttention will be given to the expansion of business opportunities domestically and internationally upon the activation of the TPP.\nNumerous buyers will also be attending from abroad\, and business talks will be held with domestic and international manufacturers. \nKuala Lumpur Malay Chamber of Commerce will be exhibiting again this year under MATRADE pavillion. Members who are interested to join us please call secretariat at 034042 4711 or email us at enquiries@klmcc.org
URL:https://klmcc.org/events-expo/foodex-japan-2018/
LOCATION:Mandarin Oriental Kuala Lumpur\, Malaysia
CATEGORIES:Events & Expo
END:VEVENT
BEGIN:VEVENT
DTSTART;TZID=Asia/Kuala_Lumpur:20180130T080000
DTEND;TZID=Asia/Kuala_Lumpur:20180130T170000
DTSTAMP:20260423T043033
CREATED:20180118T040953Z
LAST-MODIFIED:20180127T002745Z
UID:7214-1517299200-1517331600@klmcc.org
SUMMARY:Export Day 2018
DESCRIPTION:MATRADE is organising a special Export Day 2018\, an event specifically for exporters and trade-related agencies to gather network and hear interesting experiences from successful companies. \nThis year’s Export Day holds a special signifance. Not only did Malaysia have a boom export in year 2017 where total exports figure from January-November 2017 has exceeded the total figure in 2016 but 2018 is also the 25th anniversary of the establishment of MATRADE. \nTo mark the occasion\, MATRADE would like to accord the MATRADE Export Award to honour companies who have contributed to the growth of Malaysia’a external trade.  \nMATRADE would like to invite you to be part of this proud moment – to together celebrate our unity in raising Malaysia’s export profile internationally.  \nParticipation is FREE \nPlease register online at: http:www.matrade.gov.my/en/training-registration latest by 26 January 2018. \nFor further information\, kindly contact: \nNurdiana Ismail: 0362077629\nNurul Farhana Hamzah: 0362077635
URL:https://klmcc.org/events-expo/export-day-2018-2/
LOCATION:MATRADE Hall\, Menara MATRADE
CATEGORIES:Events & Expo
END:VEVENT
BEGIN:VEVENT
DTSTART;TZID=Asia/Kuala_Lumpur:20180129T143000
DTEND;TZID=Asia/Kuala_Lumpur:20180129T170000
DTSTAMP:20260423T043033
CREATED:20180125T092522Z
LAST-MODIFIED:20180127T002528Z
UID:7226-1517236200-1517245200@klmcc.org
SUMMARY:PERJUMPAAN  AHLI  Dewan Perniagaan Melayu Malaysia Kuala Lumpur (DPMMKL)
DESCRIPTION:PERJUMPAAN AHLI Dewan Perniagaan Melayu Malaysia Kuala Lumpur (DPMMKL) / Kuala Lumpur Malay Chamber OF Commerce (KLMCC)\nAssalamualaikum Dato’/Datin/Tuan/Puan/Encik/Cik \nKepada Ahli Dewan Perniagaan Melayu Malaysia Kuala Lumpur (DPMMKL) / Kuala Lumpur Malay Chamber OF Commerce (KLMCC) \nDengan segala hormatnya anda dijemput bagi menghadiri \n(Perjumpaan Ahli KLMCC sempena Kuala Lumpur Travel Mart) \nPada 29 January 2017 \, Jam 2:30 petang di Meeting Room 1 Level 3A\, Vivatel Kuala Lumpur. \nUntuk mengesahkan kehadiran atau sebarang pertanyaan sila hubungi sekretariat Dewan Perniagaan Melayu Malaysia Kuala Lumpur : \nEn Zahar Izrin – 0192427888\nEn Haikhal – 0172050432
URL:https://klmcc.org/events-expo/perjumpaan-ahli-dewan-perniagaan-melayu-malaysia-kuala-lumpur-dpmmkl/
LOCATION:Vivatel Hotel
CATEGORIES:Events & Expo
END:VEVENT
BEGIN:VEVENT
DTSTART;VALUE=DATE:20170816
DTEND;VALUE=DATE:20170820
DTSTAMP:20260423T043033
CREATED:20170722T155134Z
LAST-MODIFIED:20170722T155134Z
UID:3548-1502841600-1503187199@klmcc.org
SUMMARY:Food Expo\, Hong Kong
DESCRIPTION:Organised by the Hong Kong Trade Development Council (HKTDC)\, Food Expo\, Home Delights Expo\, Beauty & Wellness Expo and Hong Kong International Tea Fair will open concurrently on 17 August 2017 at the Hong Kong Convention and Exhibition Centre \nFor the first time ever\, The HKTDC Food Expo will have a special Halal Zone! \nThis is a culmination after successful insights and cooperation with Dewan Perniagaan Melayu Malaysia Kuala Lumpur in the past year in promoting the Halal Industry in Hong Kong. \nThe HKTDC Food Expo is an ideal marketing platform for food and beverage suppliers to show their tasty treats to Asia and beyond. In 2016\, the fair was participated by almost 1400 exhibitors from 26 countries and regions\, visited by 21\,000 trade buyers and over 490\,000 members of the public. \nThe Kuala Lumpur Malay Chamber of Commerce is calling businesses related to food and beverage to be a part of this great event. Details for trade delegation are as follows: \nHKTDC Food Expo 2017\n16 – 19 August 2017\nHong Kong Convention and Exhibition Centre. \nPlease contact En. Ahmad Hussein Tajuddin at 012 215 5535 or Pn. Sabrina 03 4042 4711 for participation details. \nLet’s not miss this opportunity and be there with us at the HKTDC Food Expo 2017 in Hong Kong! \nJoin us for the Trade Mission or Exhibit your product at our booth. \nBE PART OF THIS GREAT EVENT!
URL:https://klmcc.org/events-expo/food-expo-hong-kong/
LOCATION:Hong Kong Convention and Exhibition Centre\, Hong Kong\, Hong Kong
CATEGORIES:Events & Expo
ATTACH;FMTTYPE=image/jpeg:https://klmcc.org/wp-content/uploads/2017/07/mission-hkfe-2017.jpg
END:VEVENT
BEGIN:VEVENT
DTSTART;TZID=Asia/Kuala_Lumpur:20170803T090000
DTEND;TZID=Asia/Kuala_Lumpur:20170803T150000
DTSTAMP:20260423T043033
CREATED:20170722T154049Z
LAST-MODIFIED:20170722T171734Z
UID:3544-1501750800-1501772400@klmcc.org
SUMMARY:Program Mudahcara Pensijilan Halal 2017
DESCRIPTION:Program Mudahcara Pensijilan HALAL anjuran bersama DPMMKL & HDC\nTarikh: 3 Ogos 2017\nTempat: Halal Industry Development Corporation HDC\, Level 5\, First Avenue\, KPMG Tower\, Bandar Utama\, Selangor\nMasa: 9pagi – 3petang (Makan tengahari disediakan) \nProgram Mudahcara Pensijilan Halal dibangunkan dengan tujuan berikut:- \na) Menilai kesediaan usahawan ke arah pensijilan halal\nb) Membimbing usahawan secara komprehensif bermula daripada pemahaman pensijilan halal sehingga permohonan halal secara atas talian (MYeHalal)\nc) Membantu mengurangkan kadar permohonan yang ditolak pada peringkat awal \nOBJEKTIF \nObjektif Program  Mudahcara Pensijilan Halal 2017 HDC – DPMMKL adalah untuk:- \na) Menggalakkan lebih banyak penyertaan usahawan Bumiputera dalam industri Halal negara; dan \nb) Membantu Kerajaan dalam mengenalpasti dan memahami cabaran – cabaran dan isu – isu yang dihadapi oleh usahawan Bumiputera dalam mendapatkan pensijilan Halal Malaysia \nUntuk pendaftaran sila emel nama peserta dan nama syarikat ke enquiries@klmcc.org \nUntuk maklumat lanjut sila hubungi 03-4042 4711 \nPERCUMA!
URL:https://klmcc.org/events-expo/program-mudahcara-pensijilan-halal-2017/
LOCATION:Halal Industry Development Corporation HDC\, Level 5\, First Avenue\, KPMG Tower\, Bandar Utama\, Selangor\, Malaysia
CATEGORIES:Events & Expo
END:VEVENT
BEGIN:VEVENT
DTSTART;TZID=Asia/Kuala_Lumpur:20170801T080000
DTEND;TZID=Asia/Kuala_Lumpur:20170801T170000
DTSTAMP:20260423T043033
CREATED:20170722T152307Z
LAST-MODIFIED:20170722T153203Z
UID:3536-1501574400-1501606800@klmcc.org
SUMMARY:Latin American Business Day 2017
DESCRIPTION:
URL:https://klmcc.org/events-expo/latin-american-business-day-2017/
LOCATION:MITI Tower\, Kuala Lumpur\, Malaysia
CATEGORIES:Events & Expo
ATTACH;FMTTYPE=image/jpeg:https://klmcc.org/wp-content/uploads/2017/07/latin.jpg
END:VEVENT
BEGIN:VEVENT
DTSTART;TZID=Asia/Kuala_Lumpur:20170724T150000
DTEND;TZID=Asia/Kuala_Lumpur:20170724T190000
DTSTAMP:20260423T043033
CREATED:20170722T144246Z
LAST-MODIFIED:20170722T151646Z
UID:3526-1500908400-1500922800@klmcc.org
SUMMARY:Sambutan Aidilfitri 2017 DPMMKL
DESCRIPTION: 
URL:https://klmcc.org/events-expo/sambutan-aidilfitri-2017/
LOCATION:Vistana Hotel Kuala Lumpur\, Off\, 9\, Jalan Lumut\, Pekeliling\, Kuala Lumpur\, Kuala Lumpur\, 50400\, Malaysia
CATEGORIES:Events & Expo
ATTACH;FMTTYPE=image/jpeg:https://klmcc.org/wp-content/uploads/2017/07/klmcc-sambutan-aidilfitri-2017.jpg
END:VEVENT
BEGIN:VEVENT
DTSTART;VALUE=DATE:20170524
DTEND;VALUE=DATE:20170526
DTSTAMP:20260423T043033
CREATED:20170115T031744Z
LAST-MODIFIED:20170115T031744Z
UID:3008-1495584000-1495756799@klmcc.org
SUMMARY:CLOUD EXPO ASIA
DESCRIPTION:The trade show CLOUD EXPO ASIA – Conference and Expo is hosted at Hong Kong\, Hong Kong. The tradeshow’s frequency is annual\, with data centre world. \nHong Kong Convention and Exhibition Centre is the venue where CLOUD EXPO ASIA is held. The trade show organizer responsible for organisation and management of CLOUD EXPO ASIA is Closerstill Media. \nCLOUD EXPO ASIA welcomes the following kind of visitors: Trade visitors. \n2016 is the year of the foundation of CLOUD EXPO ASIA. \nThe emphasis of CLOUD EXPO ASIA lies on the following business sectors: Information Technology\, Communication Technology.
URL:https://klmcc.org/events-expo/cloud-expo-asia/
LOCATION:Hong Kong Convention and Exhibition Centre\, Hong Kong\, Hong Kong
CATEGORIES:Events & Expo
ATTACH;FMTTYPE=image/jpeg:https://klmcc.org/wp-content/uploads/2017/01/11-1.jpg
END:VEVENT
BEGIN:VEVENT
DTSTART;VALUE=DATE:20170413
DTEND;VALUE=DATE:20170417
DTSTAMP:20260423T043033
CREATED:20170115T032023Z
LAST-MODIFIED:20170115T032023Z
UID:3012-1492041600-1492387199@klmcc.org
SUMMARY:HKTDC Hong Kong Electronics Fair
DESCRIPTION:In 2015 the tradeshow HKTDC Hong Kong Electronics Fair (Spring Edition) served as a presentation platform for 2636 exhibitors. These tradeshow exhibitors presented their companies and services on a total of 34618 sqm at HKTDC Hong Kong Electronics Fair (Spring Edition). \n61768 visitors came to HKTDC Hong Kong Electronics Fair (Spring Edition) to inform themselves on the latest trends and innovations in the following main exhibit sectors: Audio and visual\, digital imaging\, electronic accessories\, electronic gaming\, electronic manufacturing services (EMS)\, electronic parts\, components and production technology\, healthcare electronics\, home appliances\, in-vehicle electronics and navigation systems\, office automation and equipment\, personal electronics\, protective and storage solutions for electronics\, security products\, telecommunication products\, testing\, inspection and certification\, trade services. \nIn general the following kind of visitors are welcome at HKTDC Hong Kong Electronics Fair (Spring Edition): Trade visitors. The frequency\, at which HKTDC Hong Kong Electronics Fair (Spring Edition) is held\, is annual\, with hktdc international ict expo. \nExhibits/main sectors:   Audio and visual\, digital imaging\, electronic accessories\, electronic gaming\, electronic manufacturing services (EMS)\, electronic parts\, components and production technology\, healthcare electronics\, home appliances\, in-vehicle electronics and navigation systems\, office automation and equipment\, personal electronics\, protective and storage solutions for electronics\, security products\, telecommunication products\, testing\, inspection and certification\, trade services \nBusiness sectors: Electrical Engineering\, Electronics\, Information Technology\, Communication Technology\, Multimedia\, Consumer Electronics.
URL:https://klmcc.org/events-expo/hktdc-hong-kong-electronics-fair/
LOCATION:Hong Kong Convention and Exhibition Centre\, Hong Kong\, Hong Kong
CATEGORIES:Events & Expo
ATTACH;FMTTYPE=image/jpeg:https://klmcc.org/wp-content/uploads/2017/01/14.jpg
END:VEVENT
BEGIN:VEVENT
DTSTART;VALUE=DATE:20170323
DTEND;VALUE=DATE:20170326
DTSTAMP:20260423T043033
CREATED:20170114T092037Z
LAST-MODIFIED:20170114T092037Z
UID:3004-1490227200-1490486399@klmcc.org
SUMMARY:EXPO CLEAN - Indonesia International Cleaning Exhibition
DESCRIPTION:In 2015 the tradeshow EXPO CLEAN – Indonesia International Cleaning Exhibition served as a presentation platform for 143 exhibitors. These tradeshow exhibitors presented their companies and services on a total of 4300 sqm at EXPO CLEAN. \n4431 visitors came to EXPO CLEAN to inform themselves on the latest trends and innovations in the following main exhibit sectors: Cleaning machinery & technology\, products & service. \nIn general the following kind of visitors are welcome at EXPO CLEAN: Trade visitors\, last day public admitted. The frequency\, at which EXPO CLEAN is held\, is annual\, with expo laundry.
URL:https://klmcc.org/events-expo/expo-clean-indonesia-international-cleaning-exhibition/
LOCATION:Jakarta International Expo\, Kemayoran\, Jakarta\, Indonesia
CATEGORIES:Events & Expo
ATTACH;FMTTYPE=image/jpeg:https://klmcc.org/wp-content/uploads/2017/01/13.jpg
END:VEVENT
BEGIN:VEVENT
DTSTART;VALUE=DATE:20170309
DTEND;VALUE=DATE:20170312
DTSTAMP:20260423T043033
CREATED:20170114T090842Z
LAST-MODIFIED:20170114T091549Z
UID:3000-1489017600-1489276799@klmcc.org
SUMMARY:Bali Interfood
DESCRIPTION:The trade show Bali Interfood – International Exhibition on Food and Beverage Products\, Technology\, Ingredients\, Additives\, Raw Materials\, Services\, Equipment and Supplies is hosted at Nusa Dua / Bali\, Indonesia. The tradeshow’s frequency is annual. \nBali Nusa Dua Convention Centre is the venue where Bali Interfood is held. The trade show organizer responsible for organisation and management of Bali Interfood is KristaMedia Pratama PT. – Krista Exhibitions.
URL:https://klmcc.org/events-expo/bali-interfood/
LOCATION:Bali Nusa Dua Convention Centre\, Bali\, Nusa Dua\, Indonesia
CATEGORIES:Events & Expo
ATTACH;FMTTYPE=image/jpeg:https://klmcc.org/wp-content/uploads/2017/01/12.jpg
END:VEVENT
BEGIN:VEVENT
DTSTART;VALUE=DATE:20170308
DTEND;VALUE=DATE:20170312
DTSTAMP:20260423T043033
CREATED:20170115T032826Z
LAST-MODIFIED:20170115T032826Z
UID:3020-1488931200-1489276799@klmcc.org
SUMMARY:MIFF: Malaysian International Furniture Fair
DESCRIPTION:The main exhibit sectors of the trade show MIFF – Malaysian International Furniture Fair are: \nBedroom furniture\, dining tables and chairs\, living room furniture\, office furniture\, occasional furniture\, outdoor / garden furniture\, upholstered furniture / sofa\, kitchen cabinets\, children furniture\, contract furniture\, mattresses\, fittings and hardware\, components and parts\, accessories. \nIn 2016 500 exhibitors presented innovations and trends at the trade show MIFF. 20000 visitors seized MIFF as an information platform. \nExhibits/main sectors:   Bedroom furniture\, dining tables and chairs\, living room furniture\, office furniture\, occasional furniture\, outdoor / garden furniture\, upholstered furniture / sofa\, kitchen cabinets\, children furniture\, contract furniture\, mattresses\, fittings and hardware\, components and parts\, accessories \nBusiness sectors: Furniture
URL:https://klmcc.org/events-expo/miff-malaysian-international-furniture-fair/
LOCATION:MECC – MATRADE Exhibition and Convention Centre\, MATRADE Exhibition and Convention Centre\, Jalan Sultan Haji Ahmad Shah\, Kompleks Kerajaan\,\, Kuala Lumpur\, WP Kuala Lumpur\, 50480\, Malaysia
CATEGORIES:Events & Expo
ATTACH;FMTTYPE=image/jpeg:https://klmcc.org/wp-content/uploads/2017/01/17.jpg
END:VEVENT
BEGIN:VEVENT
DTSTART;VALUE=DATE:20170302
DTEND;VALUE=DATE:20170306
DTSTAMP:20260423T043033
CREATED:20170115T033147Z
LAST-MODIFIED:20170115T033147Z
UID:3024-1488412800-1488758399@klmcc.org
SUMMARY:Food Pack Asia
DESCRIPTION:The trade show Food Pack Asia – Food Processing and Packaging Exhibition takes place in Bangkok\, Thailand. The frequency of the trade show is annual\, with thailand industrial fair. Food Pack Asia is held at the venue BITEC – Bangkok International Trade & Exhibition Centre. \nFood Pack Asia is open to the following types of visitors: Trade visitors. The year of the tradeshow’s foundation is 2011. \nDigiview Advertising Group Co. Ltd.\, T.B.P. Publication Co.\, Ltd. are the trade show organizers in charge of Food Pack Asia. \nOn m+a ExpoDataBase Food Pack Asia is assigned to the business sectors Food Processing\, Packaging. \nExhibits/main sectors:   Food processing machinery\, drink technology\, packaging technology\, hotel and restaurant equipment\, confectionery machinery and bakery equipment\, food and beverage
URL:https://klmcc.org/events-expo/food-pack-asia/
LOCATION:BITEC – Bangkok International Trade & Exhibition Centre\, BITEC\, 88 Bangna Trad Road Khwaeng Bang Na\, BANGKOK\, 10260\, Thailand
CATEGORIES:Events & Expo
ATTACH;FMTTYPE=image/jpeg:https://klmcc.org/wp-content/uploads/2017/01/18.jpg
END:VEVENT
BEGIN:VEVENT
DTSTART;VALUE=DATE:20170116
DTEND;VALUE=DATE:20170120
DTSTAMP:20260423T043033
CREATED:20170115T032224Z
LAST-MODIFIED:20170115T032224Z
UID:3015-1484524800-1484870399@klmcc.org
SUMMARY:HKTDC Hong Kong Fashion Week for Fall/Winter
DESCRIPTION:The trade show HKTDC Hong Kong Fashion Week for Fall/Winter takes place in Hong Kong\, Hong Kong. The frequency of the trade show is annual. \nIn 2015 1074 exhibitors seized the trade show HKTDC Hong Kong Fashion Week for Fall/Winter as a presentation platform for their products and services. With their trade show participation exhibitors occupied 14612 sqm. 22184 visitors attended HKTDC Hong Kong Fashion Week for Fall/Winter to inform themselves on innovations and trends in their business. \nThe main exhibit sectors of the trade show HKTDC Hong Kong Fashion Week for Fall/Winter are: \nLadies’ wear\, men’s wear\, babies’ and children’s wear\, sportswear\, denim\, lingerie\, swimwear\, evening wear\, handbags\, shoes\, costume jewellery\, fabrics\, buttons\, labels\, fashion magazines. With World of Youth Collections\, Men in Style and Fashion Jewellery Feast. \nHong Kong Trade Development Council\, Exhibitions Department is the trade show organizer in charge of HKTDC Hong Kong Fashion Week for Fall/Winter. \nExhibits/main sectors:   Ladies’ wear\, men’s wear\, babies’ and children’s wear\, sportswear\, denim\, lingerie\, swimwear\, evening wear\, handbags\, shoes\, costume jewellery\, fabrics\, buttons\, labels\, fashion magazines. With World of Youth Collections\, Men in Style and Fashion Jewellery Feast \nBusiness sectors: Apparel\, Clothing\, Fashion\, Ready-to-Wear\, Lingerie\, Corsetry
URL:https://klmcc.org/events-expo/hktdc-hong-kong-fashion-week-for-fallwinter/
LOCATION:Hong Kong Convention and Exhibition Centre\, Hong Kong\, Hong Kong
CATEGORIES:Events & Expo
ATTACH;FMTTYPE=image/jpeg:https://klmcc.org/wp-content/uploads/2017/01/15.jpg
END:VEVENT
BEGIN:VEVENT
DTSTART;TZID=Asia/Kuala_Lumpur:20170109T080000
DTEND;TZID=Asia/Kuala_Lumpur:20170111T170000
DTSTAMP:20260423T043033
CREATED:20170115T032447Z
LAST-MODIFIED:20170115T032447Z
UID:3017-1483948800-1484154000@klmcc.org
SUMMARY:HKTDC Hong Kong International Licensing Show
DESCRIPTION:The trade show HKTDC Hong Kong International Licensing Show is held in Hong Kong\, Hong Kong. The frequency of the trade show is annual. \nIn 2016 HKTDC Hong Kong International Licensing Show was the presentation platform for 340 exhibitors. 20800 visitors seized the opportunity to attend the trade show and inform themselves on news and trends in the following business sectors: Business\, Franchising\, Licensing. \nInternational Licensing Industry Merchandisers’ Association (LIMA)\, Hong Kong Trade Development Council\, Exhibitions Department are the trade show organizers in charge of HKTDC Hong Kong International Licensing Show. \nExhibitors’ profile:           Exhibitors from 15 countries. Licensors\, licensing agents\, brand owners\, design service providers\, digital entertainment providers\, legal professionals\, business consultants and marketing/ advertising agents \nVisitors’ profile: Visitors from 100 countries. Licensing agents\, licensees\, manufacturers\, importers\, exporters\, legal advisors\, buying offices\, retailers\, wholesalers and distributors\, advertising and promotion agents
URL:https://klmcc.org/events-expo/hktdc-hong-kong-international-licensing-show/
LOCATION:Hong Kong Convention and Exhibition Centre\, Hong Kong\, Hong Kong
CATEGORIES:Events & Expo
ATTACH;FMTTYPE=image/jpeg:https://klmcc.org/wp-content/uploads/2017/01/16.jpg
END:VEVENT
END:VCALENDAR