BEGIN:VCALENDAR
VERSION:2.0
PRODID:-//KLMCC - Kuala Lumpur Malay Chamber of Commerce - ECPv6.2.4//NONSGML v1.0//EN
CALSCALE:GREGORIAN
METHOD:PUBLISH
X-ORIGINAL-URL:https://klmcc.org
X-WR-CALDESC:Events for KLMCC - Kuala Lumpur Malay Chamber of Commerce
REFRESH-INTERVAL;VALUE=DURATION:PT1H
X-Robots-Tag:noindex
X-PUBLISHED-TTL:PT1H
BEGIN:VTIMEZONE
TZID:Asia/Kuala_Lumpur
BEGIN:STANDARD
TZOFFSETFROM:+0800
TZOFFSETTO:+0800
TZNAME:+08
DTSTART:20190101T000000
END:STANDARD
END:VTIMEZONE
BEGIN:VEVENT
DTSTART;TZID=Asia/Kuala_Lumpur:20190708T160000
DTEND;TZID=Asia/Kuala_Lumpur:20190708T183000
DTSTAMP:20260423T065728
CREATED:20190617T040843Z
LAST-MODIFIED:20190617T040843Z
UID:7927-1562601600-1562610600@klmcc.org
SUMMARY:Perjumpaan Ahli sempena VIBRANT GOA International Roadshow
DESCRIPTION:Dengan hormatnya perkara diatas dirujuk. \nSukacitanya dimaklumkan bahawa DPMM Kuala Lumpur telah diberi amanah oleh Vibrant Goa Foundation untuk menjadi tuan rumah bagi menganjurkan “VIBRANT GOA INTERNATIONAL ROADSHOW” pada:- \nTarikh : 8 JULY 2019 (Isnin)\nMasa : 4pm – 6pm\nTempat : Perdana Hall\, Level 6\nMenara Matrade\,\nJalan Sultan Haji Ahmad Shah\,\n50480 Kuala Lumpur. \nSehubungan dengan itu\, kami ingin menjemput semua ahli DPMMKL untuk turut serta dan meneroka peluang besar yang disediakan untuk semua ahli. Wakil dari Suruhanjaya Tinggi (Kedutaan) India di Malaysia dan Vibrant Goa Foundation akan berkongsi peluang dan tawaran terbaik untuk semua ahli-ahli. \nUntuk mengesahkan kehadiran atau keterangan lanjut sila hubungi pihak sekretariat di talian 03-40424711. \nSekian\, Terima Kasih. \nRizal Abdul Rahman\nSetiausaha Kehormat\nDPMM Kuala Lumpur \n#klmcc #dpmmkl
URL:https://klmcc.org/events-expo/perjumpaan-ahli-sempena-vibrant-goa-international-roadshow/
LOCATION:Perdana Hall\, West Wing\, Level 6\, MATRADE Building.
CATEGORIES:Events & Expo
END:VEVENT
BEGIN:VEVENT
DTSTART;TZID=Asia/Kuala_Lumpur:20200122T140000
DTEND;TZID=Asia/Kuala_Lumpur:20200122T170000
DTSTAMP:20260423T065728
CREATED:20200114T144944Z
LAST-MODIFIED:20200114T144944Z
UID:7970-1579701600-1579712400@klmcc.org
SUMMARY:NOTIS MESYUARAT AGUNG LUARBIASA DPMM KUALA LUMPUR
DESCRIPTION:Assalamualaikum….. \nKepada Ahli-Ahli DPMM Kuala Lumpur\, \nYBhg Tan Sri/Dato’ Sri/Dato’/Datin/Tuan/Puan\, \nNOTIS MESYUARAT AGUNG LUARBIASA DPMM KUALA LUMPUR \nBerdasarkan surat permohonan untuk mengadakan Mesyuarat Agung Luarbiasa bertarikh 23 Disember 2019 oleh ahli-ahli DPMM Kuala Lumpur dan selaras dengan Fasal 21.4.2 Undang-Undang Tubuh Dan Perintah Peraturan Dewan Perniagaan Melayu Malaysia (DPMM) yang menghendaki Mesyuarat Agung Luarbiasa DPMM Negeri diadakan dalam tempoh tiga puluh (30) hari dari tarikh surat diterima\, sukacitanya dimaklukan bahawa setelah mengambil kira hari ke-30 dari tarikh surat diterima\, iaitu 22 Januari 2020 serta untuk memastikan hak ahli terpelihara seperti yang termaktub di dalam Undang-Undang Tubuh dan Perintah Peraturan DPMM\, maka Mesyuarat Agung Luarbiasa akan diadakan seperti butiran berikut :- \nTarikh : 22 Januari 2020 (RABU)\nMasa : 2pm – 5pm\nTempat : No 79\, Kompleks Damai\, Jalan Dato’ Haji Eusoff\, 50400 Kuala Lumpur \nAGENDA\n1. Membincangkan Keadaan Semasa dan Perkara-Perkara Berbangkit Berkaitan DPMM Kuala Lumpur\n2. Membahasakan Usul-Usul oleh Ahli-Ahli DPMM Kuala Lumpur\n3. Penangguhan \nSebarang pertanyaan boleh hubungi sekretariat DPMM Kuala Lumpur di 03-40424711 \nSekian dimaklumkan\, Wassalam.
URL:https://klmcc.org/events-expo/notis-mesyuarat-agung-luarbiasa-dpmm-kuala-lumpur/
LOCATION:DPMMKL\, 79\, Kompleks Damai\, Jalan Haji Dato Eusoff\, Kuala Lumpur\, Malaysia
CATEGORIES:Events & Expo
END:VEVENT
BEGIN:VEVENT
DTSTART;TZID=Asia/Kuala_Lumpur:20200221T183000
DTEND;TZID=Asia/Kuala_Lumpur:20200221T220000
DTSTAMP:20260423T065728
CREATED:20200215T004522Z
LAST-MODIFIED:20200215T004801Z
UID:7974-1582309800-1582322400@klmcc.org
SUMMARY:Majlis Doa Selamat dan Perjumpaan Ahli DPMMKL
DESCRIPTION:Assalammualaikum\, \nDPMMKL akan mengadakan Majlis Doa Selamat dan Perjumpaan Ahli pada 21hb Februari\, 2020 (Jumaat)\, Jam 7 malam. Ini adalah perjumpaan pertama bagi tahun 2020. Marilah kita bersama- sama mendoakan yang terbaik buat DPMMKL didalam kemelut sekarang ini. Kehadiran Yang Berbahagia/Dato/ Datin/Tuan/Puan ke majlis ini amat kami hargai. \nSila sahkan kehadiran di sini http://bit.ly/2HkrL2v sebelum 20 Februari 2020 \nSekian\, terima kasih \nSekretariat DPMMKL
URL:https://klmcc.org/events-expo/majlis-doa-selamat-dan-perjumpaan-ahli-dpmmkl/
LOCATION:DPMMKL\, 79\, Kompleks Damai\, Jalan Haji Dato Eusoff\, Kuala Lumpur\, Malaysia
CATEGORIES:Events & Expo
END:VEVENT
BEGIN:VEVENT
DTSTART;TZID=Asia/Kuala_Lumpur:20201022T150000
DTEND;TZID=Asia/Kuala_Lumpur:20201022T170000
DTSTAMP:20260423T065728
CREATED:20201020T032756Z
LAST-MODIFIED:20201020T032817Z
UID:8263-1603378800-1603386000@klmcc.org
SUMMARY:Maintaining Business Relevance During the Pandemic
DESCRIPTION:Sertai webinar kami bertajuk “Maintaining Business Relevance During the Pandemic” pada 22 Oktober 2020 jam 3PM. \nImpak pandemik COVID-19 ke atas perniagaan-perniagaan di seluruh negara tidak seperti apa yang pernah dihadapi. Keadaan ekonomi dan kewangan yang lemah\, permintaan yang semakin berkurangan\, rantaian bekalan yang tergendala dan kesan dari pengangguran memberi tekanan kepada ekonomi sedunia termasuk di Malaysia. \nDengan usahasama KLMCC\, webinar ini akan membincangkan dan berkongsi bagaimana kerajaan di Hong Kong membantu perniagaan-perniagaan yang terjejas mengatasi cabaran pandemik COVID-19 \nSila daftar penyertaan di :\nhttps://zoom.us/meeting/register/tJItc-mvrz0vH9ApMSCxD26bhF0EqgkCjD0K \nJoin our webinar: “Maintaining Business Relevance During the Pandemic” on 22 Oct 2020 at 3PM Kuala Lumpur time.  \nThe COVID-19 impact on business is unprecedented. Amid weakened economy\, demand cut-backs\, supply chain disruptions and knock-on effects on employment\, businesses in most economies\, including Malaysia and Hong Kong\, now find themselves facing significantly daunting challenges. \nIn collaboration with Kuala Lumpur Malay Chamber of Commerce (KLMCC) in Malaysia\, the webinar session will share information on how the Hong Kong Government is helping the impacted business sector come out of the pandemic stronger.   \nPlease register at: https://zoom.us/meeting/register/tJItc-mvrz0vH9ApMSCxD26bhF0EqgkCjD0K
URL:https://klmcc.org/events-expo/8263/
LOCATION:WEBINAR
CATEGORIES:Events & Expo
END:VEVENT
BEGIN:VEVENT
DTSTART;TZID=Asia/Kuala_Lumpur:20210113T103000
DTEND;TZID=Asia/Kuala_Lumpur:20210113T120000
DTSTAMP:20260423T065728
CREATED:20210108T061446Z
LAST-MODIFIED:20210108T062255Z
UID:8286-1610533800-1610539200@klmcc.org
SUMMARY:WEBINAR: EXPORT OPPORTUNITIES IN FOOD & BEVERAGES THROUGH HONG KONG
DESCRIPTION:REGISTER HERE \nJoin us to gain insights on Hong Kong’s Food & Beverages market\, its potential for Malaysian products and how to use the city as a platform to other markets.
URL:https://klmcc.org/events-expo/webinar-export-opportunities-in-food-beverages-through-hong-kong/
CATEGORIES:Events & Expo
END:VEVENT
BEGIN:VEVENT
DTSTART;VALUE=DATE:20240415
DTEND;VALUE=DATE:20240416
DTSTAMP:20260423T065728
CREATED:20240415T092530Z
LAST-MODIFIED:20240415T094854Z
UID:11198-1713139200-1713225599@klmcc.org
SUMMARY:Notis Mesyuarat Agung Tahunan DPMMKL ke-45
DESCRIPTION:NOTIS MESYUARAT AGUNG TAHUNAN KALI KE 45\n\nAssalamualaikum….. \nKepada Ahli-Ahli DPMM Kuala Lumpur\, \nYBhg Tan Sri/Dato’ Sri/Dato’/Datin/Tuan/Puan\, \n\n*NOTIS MESYUARAT AGUNG TAHUNAN KALI KE 45* \nSukacita dimaklumkan bahawa Mesyuarat Agung Tahunan Kali Ke-45 DPMM Kuala Lumpur akan diadakan seperti berikut :- \nTarikh : 29 April 2024 (Isnin)\nMasa : 9.00 AM\nTempat : Royal Chulan Hotel\, Kuala Lumpur \nAdalah ini dimaklumkan bahawasanya kami memohon agar Ahli-Ahli DPMM Kuala Lumpur untuk menyemak dan mengesahkan status Keahlian masing-masing sebelum tarikh Mesyuarat Agung Tahunan. \n*AGENDA* \n1. Ucapan Aluan oleh Pengerusi \n2. Pembentangan Minit Mesyuarat Agung Tahunan Kali Ke 44 \n3. Pembentangan Laporan Tahunan Bagi Tahun 2023 \n4. Pembentangan Penyata Kira-Kira Yang Telah Diperiksa dan Disahkan Oleh Juruaudit Bagi Tahun Berakhir Disember 2023 \n5. Melantik Juruaudit \n6. Melantik Pemegang Amanah \n7. Membahaskan Usul-Usul yang telah diterima \n8. Ucapan Penangguhan \nSebarang pertanyaan boleh hubungi sekretariat DPMM Kuala Lumpur di 03-40424711 / 016-796 6171 \nSekian terima kasih. \nHaji Saiful Azman\nSetiausaha Kehormat\nDPMM Kuala Lumpur
URL:https://klmcc.org/events-expo/notis-mesyuarat-agung-tahunan-dpmmkl-ke-45/
CATEGORIES:Events & Expo
END:VEVENT
END:VCALENDAR